BEGIN:VCALENDAR
VERSION:2.0
PRODID:-//NORCO Sportsman&#039;s Club - ECPv5.0.3.1//NONSGML v1.0//EN
CALSCALE:GREGORIAN
METHOD:PUBLISH
X-WR-CALNAME:NORCO Sportsman&#039;s Club
X-ORIGINAL-URL:https://www.norco.club
X-WR-CALDESC:Events for NORCO Sportsman&#039;s Club
BEGIN:VTIMEZONE
TZID:America/New_York
BEGIN:DAYLIGHT
TZOFFSETFROM:-0500
TZOFFSETTO:-0400
TZNAME:EDT
DTSTART:20250309T070000
END:DAYLIGHT
BEGIN:STANDARD
TZOFFSETFROM:-0400
TZOFFSETTO:-0500
TZNAME:EST
DTSTART:20251102T060000
END:STANDARD
END:VTIMEZONE
BEGIN:VEVENT
DTSTART;TZID=America/New_York:20250209T160000
DTEND;TZID=America/New_York:20250209T233000
DTSTAMP:20260423T154059
CREATED:20241220T204249Z
LAST-MODIFIED:20241220T204249Z
UID:11844-1739116800-1739143800@www.norco.club
SUMMARY:Clubhouse Super Bowl Potluck 4pm til end of game
DESCRIPTION:4pm – clubhouse opens \n6.30pm – kickoff \npotluck \nWhen\, Where & What time is the Super Bowl 2025? \n \n
URL:https://www.norco.club/event/clubhouse-super-bowl-potluck-4pm-til-end-of-game/
LOCATION:Norco Sportsman’s Club\, 91 Houghton Road\, Princeton\, MA\, 01541\, United States
CATEGORIES:Club House,open to friends and family of members
ORGANIZER;CN="NORCO":MAILTO:webmaster@norco.club
END:VEVENT
END:VCALENDAR