BEGIN:VCALENDAR
VERSION:2.0
PRODID:-//NORCO Sportsman&#039;s Club - ECPv5.0.3.1//NONSGML v1.0//EN
CALSCALE:GREGORIAN
METHOD:PUBLISH
X-WR-CALNAME:NORCO Sportsman&#039;s Club
X-ORIGINAL-URL:https://www.norco.club
X-WR-CALDESC:Events for NORCO Sportsman&#039;s Club
BEGIN:VTIMEZONE
TZID:America/New_York
BEGIN:DAYLIGHT
TZOFFSETFROM:-0500
TZOFFSETTO:-0400
TZNAME:EDT
DTSTART:20180311T070000
END:DAYLIGHT
BEGIN:STANDARD
TZOFFSETFROM:-0400
TZOFFSETTO:-0500
TZNAME:EST
DTSTART:20181104T060000
END:STANDARD
END:VTIMEZONE
BEGIN:VEVENT
DTSTART;TZID=America/New_York:20180511T180000
DTEND;TZID=America/New_York:20180511T220000
DTSTAMP:20260425T162432
CREATED:20180226T120251Z
LAST-MODIFIED:20180226T120251Z
UID:3761-1526061600-1526076000@www.norco.club
SUMMARY:DH1\, Part 1 of 2 Parts\, for either of the 5/12 and 5/20 sessions
DESCRIPTION:DH1 first day of two day program. \nFirst session is held at Westminster PD\, 2nd floor. \n
URL:https://www.norco.club/event/dh1-part-1-of-2-parts-for-either-of-the-5-12-and-5-20-sessions/
LOCATION:Westminster Police Department\, 7 South Street\, Westminster\, MA\, 01473\, United States
CATEGORIES:Education,gun ownership,Pistol Range
ORGANIZER;CN="Wachusett%20Firearm%20Training":MAILTO:wachusettfirearmstraining@yahoo.com
END:VEVENT
END:VCALENDAR