BEGIN:VCALENDAR
VERSION:2.0
PRODID:-//NORCO Sportsman&#039;s Club - ECPv5.0.3.1//NONSGML v1.0//EN
CALSCALE:GREGORIAN
METHOD:PUBLISH
X-WR-CALNAME:NORCO Sportsman&#039;s Club
X-ORIGINAL-URL:https://www.norco.club
X-WR-CALDESC:Events for NORCO Sportsman&#039;s Club
BEGIN:VTIMEZONE
TZID:America/New_York
BEGIN:DAYLIGHT
TZOFFSETFROM:-0500
TZOFFSETTO:-0400
TZNAME:EDT
DTSTART:20180311T070000
END:DAYLIGHT
BEGIN:STANDARD
TZOFFSETFROM:-0400
TZOFFSETTO:-0500
TZNAME:EST
DTSTART:20181104T060000
END:STANDARD
END:VTIMEZONE
BEGIN:VEVENT
DTSTART;TZID=America/New_York:20180609T090000
DTEND;TZID=America/New_York:20180609T170000
DTSTAMP:20260425T022337
CREATED:20180226T121311Z
LAST-MODIFIED:20180226T121311Z
UID:3771-1528534800-1528563600@www.norco.club
SUMMARY:DH2 Class
DESCRIPTION:Defensive Handgun 2 Class \n
URL:https://www.norco.club/event/dh2-class/
LOCATION:Norco Sportsman’s Club\, 91 Houghton Road\, Princeton\, MA\, 01541\, United States
CATEGORIES:Education,gun ownership,Pistol Range
ORGANIZER;CN="Wachusett%20Firearm%20Training":MAILTO:wachusettfirearmstraining@yahoo.com
END:VEVENT
END:VCALENDAR