BEGIN:VCALENDAR
VERSION:2.0
PRODID:-//NORCO Sportsman&#039;s Club - ECPv5.0.3.1//NONSGML v1.0//EN
CALSCALE:GREGORIAN
METHOD:PUBLISH
X-WR-CALNAME:NORCO Sportsman&#039;s Club
X-ORIGINAL-URL:https://www.norco.club
X-WR-CALDESC:Events for NORCO Sportsman&#039;s Club
BEGIN:VTIMEZONE
TZID:America/New_York
BEGIN:DAYLIGHT
TZOFFSETFROM:-0500
TZOFFSETTO:-0400
TZNAME:EDT
DTSTART:20220313T070000
END:DAYLIGHT
BEGIN:STANDARD
TZOFFSETFROM:-0400
TZOFFSETTO:-0500
TZNAME:EST
DTSTART:20221106T060000
END:STANDARD
END:VTIMEZONE
BEGIN:VEVENT
DTSTART;TZID=America/New_York:20221009T120000
DTEND;TZID=America/New_York:20221009T140000
DTSTAMP:20260421T084847
CREATED:20220912T213403Z
LAST-MODIFIED:20220913T124720Z
UID:8985-1665316800-1665324000@www.norco.club
SUMMARY:Pistol Range Closed 12-2PM for LTC class
DESCRIPTION:
URL:https://www.norco.club/event/pistol-range-closed-12-4pm-for-ltc-class/
CATEGORIES:Pistol Range,Private Function
END:VEVENT
END:VCALENDAR