BEGIN:VCALENDAR
VERSION:2.0
PRODID:-//NORCO Sportsman&#039;s Club - ECPv5.0.3.1//NONSGML v1.0//EN
CALSCALE:GREGORIAN
METHOD:PUBLISH
X-WR-CALNAME:NORCO Sportsman&#039;s Club
X-ORIGINAL-URL:https://www.norco.club
X-WR-CALDESC:Events for NORCO Sportsman&#039;s Club
BEGIN:VTIMEZONE
TZID:America/New_York
BEGIN:DAYLIGHT
TZOFFSETFROM:-0500
TZOFFSETTO:-0400
TZNAME:EDT
DTSTART:20250309T070000
END:DAYLIGHT
BEGIN:STANDARD
TZOFFSETFROM:-0400
TZOFFSETTO:-0500
TZNAME:EST
DTSTART:20251102T060000
END:STANDARD
END:VTIMEZONE
BEGIN:VEVENT
DTSTART;TZID=America/New_York:20250228T120000
DTEND;TZID=America/New_York:20250228T130000
DTSTAMP:20260421T091708
CREATED:20241223T143047Z
LAST-MODIFIED:20241223T143047Z
UID:11958-1740744000-1740747600@www.norco.club
SUMMARY:Reminder to renew membership dues and buy Norco Raffle tickets
DESCRIPTION:
URL:https://www.norco.club/event/reminder-to-renew-membership-dues-and-buy-norco-raffle-tickets-2/
CATEGORIES:Club House,Reminder
END:VEVENT
END:VCALENDAR