BEGIN:VCALENDAR
VERSION:2.0
PRODID:-//NORCO Sportsman&#039;s Club - ECPv5.0.3.1//NONSGML v1.0//EN
CALSCALE:GREGORIAN
METHOD:PUBLISH
X-WR-CALNAME:NORCO Sportsman&#039;s Club
X-ORIGINAL-URL:https://www.norco.club
X-WR-CALDESC:Events for NORCO Sportsman&#039;s Club
BEGIN:VTIMEZONE
TZID:America/New_York
BEGIN:DAYLIGHT
TZOFFSETFROM:-0500
TZOFFSETTO:-0400
TZNAME:EDT
DTSTART:20250309T070000
END:DAYLIGHT
BEGIN:STANDARD
TZOFFSETFROM:-0400
TZOFFSETTO:-0500
TZNAME:EST
DTSTART:20251102T060000
END:STANDARD
END:VTIMEZONE
BEGIN:VEVENT
DTSTART;TZID=America/New_York:20250601T063000
DTEND;TZID=America/New_York:20250601T170000
DTSTAMP:20260420T093403
CREATED:20241220T203657Z
LAST-MODIFIED:20241220T203657Z
UID:11840-1748759400-1748797200@www.norco.club
SUMMARY:CNEBC Funday - club house and field rental ; all ranges closed 12N-2PM
DESCRIPTION:Open club gates at 6.30am \nOpen clubhouse and restrooms 7am \nField usage 6.30am-2pm \nmeeting\, awards\, lunch 1 or 2pm till 5pm \n
URL:https://www.norco.club/event/cnebc-funday-club-house-and-field-rental-all-ranges-closed-12n-2pm/
LOCATION:Norco Sportsman’s Club\, 91 Houghton Road\, Princeton\, MA\, 01541\, United States
CATEGORIES:Club House,Private Function
END:VEVENT
END:VCALENDAR