BEGIN:VCALENDAR
VERSION:2.0
PRODID:-//NORCO Sportsman&#039;s Club - ECPv5.0.3.1//NONSGML v1.0//EN
CALSCALE:GREGORIAN
METHOD:PUBLISH
X-WR-CALNAME:NORCO Sportsman&#039;s Club
X-ORIGINAL-URL:https://www.norco.club
X-WR-CALDESC:Events for NORCO Sportsman&#039;s Club
BEGIN:VTIMEZONE
TZID:America/New_York
BEGIN:DAYLIGHT
TZOFFSETFROM:-0500
TZOFFSETTO:-0400
TZNAME:EDT
DTSTART:20220313T070000
END:DAYLIGHT
BEGIN:STANDARD
TZOFFSETFROM:-0400
TZOFFSETTO:-0500
TZNAME:EST
DTSTART:20221106T060000
END:STANDARD
END:VTIMEZONE
BEGIN:VEVENT
DTSTART;TZID=America/New_York:20220305T100000
DTEND;TZID=America/New_York:20220305T140000
DTSTAMP:20260424T202513
CREATED:20220113T155643Z
LAST-MODIFIED:20220113T155643Z
UID:8241-1646474400-1646488800@www.norco.club
SUMMARY:Kids Day - Open to the Public
DESCRIPTION:Typical activities include \nmake a walking stick\, make bird seed treats\, make a fishing lure. try your hand at baitcasting\, try your hand at archery; education posters\, raffles\, and furbearer display \nand a wood project – from years past – bat house\, blue bird nest box\, bird feeder \nfood and drink available for a nominal donation \n
URL:https://www.norco.club/event/kids-day-open-to-the-public/
LOCATION:Norco Sportsman’s Club\, 91 Houghton Road\, Princeton\, MA\, 01541\, United States
CATEGORIES:Club House,Education,Youth Program
ORGANIZER;CN="NORCO":MAILTO:webmaster@norco.club
END:VEVENT
END:VCALENDAR