BEGIN:VCALENDAR
VERSION:2.0
PRODID:-//NORCO Sportsman&#039;s Club - ECPv5.0.3.1//NONSGML v1.0//EN
CALSCALE:GREGORIAN
METHOD:PUBLISH
X-WR-CALNAME:NORCO Sportsman&#039;s Club
X-ORIGINAL-URL:https://www.norco.club
X-WR-CALDESC:Events for NORCO Sportsman&#039;s Club
BEGIN:VTIMEZONE
TZID:America/New_York
BEGIN:DAYLIGHT
TZOFFSETFROM:-0500
TZOFFSETTO:-0400
TZNAME:EDT
DTSTART:20250309T070000
END:DAYLIGHT
BEGIN:STANDARD
TZOFFSETFROM:-0400
TZOFFSETTO:-0500
TZNAME:EST
DTSTART:20251102T060000
END:STANDARD
END:VTIMEZONE
BEGIN:VEVENT
DTSTART;TZID=America/New_York:20251010T173000
DTEND;TZID=America/New_York:20251010T220000
DTSTAMP:20260424T091652
CREATED:20241220T231533Z
LAST-MODIFIED:20241220T231533Z
UID:11915-1760117400-1760133600@www.norco.club
SUMMARY:DH 1 Class\, 2 part class \, part 1 classroom\, 2nd flr clubhouse
DESCRIPTION:Part 1\, classroom 5.30PM-10PM \, clubhouse \nPart 2\, pistol range\, (8.30am-5.30pm Saturdays) (11.30am-7.30PM)  ; pistol range closed for general member use during class hours \n
URL:https://www.norco.club/event/dh-1-class-2-part-class-part-1-classroom-2nd-flr-clubhouse-8/
LOCATION:Norco Sportsman’s Club\, 91 Houghton Road\, Princeton\, MA\, 01541\, United States
CATEGORIES:Club House,Education,gun ownership
ORGANIZER;CN="Wachusett%20Firearm%20Training":MAILTO:wachusettfirearmstraining@yahoo.com
END:VEVENT
BEGIN:VEVENT
DTSTART;TZID=America/New_York:20251010T180000
DTEND;TZID=America/New_York:20251010T220000
DTSTAMP:20260424T091652
CREATED:20250620T213945Z
LAST-MODIFIED:20250620T213945Z
UID:12527-1760119200-1760133600@www.norco.club
SUMMARY:LTC Class # 1 \, 1 of 2 days
DESCRIPTION:Class #1 \, Oct 10 6-10PM & Oct 12 9am-3PM \nClass #2 \, Oct 18 6-10PM & Oct 19 9am-3PM \n
URL:https://www.norco.club/event/ltc-class-1-1-of-2-days/
LOCATION:Norco Sportsman’s Club\, 91 Houghton Road\, Princeton\, MA\, 01541\, United States
CATEGORIES:Club House,Education,gun ownership
END:VEVENT
END:VCALENDAR