BEGIN:VCALENDAR
VERSION:2.0
PRODID:-//NORCO Sportsman&#039;s Club - ECPv5.0.3.1//NONSGML v1.0//EN
CALSCALE:GREGORIAN
METHOD:PUBLISH
X-WR-CALNAME:NORCO Sportsman&#039;s Club
X-ORIGINAL-URL:https://www.norco.club
X-WR-CALDESC:Events for NORCO Sportsman&#039;s Club
BEGIN:VTIMEZONE
TZID:America/New_York
BEGIN:DAYLIGHT
TZOFFSETFROM:-0500
TZOFFSETTO:-0400
TZNAME:EDT
DTSTART:20220313T070000
END:DAYLIGHT
BEGIN:STANDARD
TZOFFSETFROM:-0400
TZOFFSETTO:-0500
TZNAME:EST
DTSTART:20221106T060000
END:STANDARD
END:VTIMEZONE
BEGIN:VEVENT
DTSTART;TZID=America/New_York:20220925T113000
DTEND;TZID=America/New_York:20220925T140000
DTSTAMP:20260423T224858
CREATED:20220113T183553Z
LAST-MODIFIED:20220925T144727Z
UID:8342-1664105400-1664114400@www.norco.club
SUMMARY:Canceled Pistol Pin Shoot - rifle range open / pistol range private class 12-2
DESCRIPTION:11:30am-12N\, setup \n12N-2PM\, double elimination for bragging rights and Norco t-shirt or hat \nBring a friend \nProgram runs last Sunday of the month\, April through October\, weather permitting \nRecommend bringing 100 rounds\, 2 mags/speedloaders. 9MM and larger knocks em down \n
URL:https://www.norco.club/event/pistol-pin-shoot-pistol-ranged-closed-during-shoot-5/
LOCATION:Norco Sportsman’s Club\, 91 Houghton Road\, Princeton\, MA\, 01541\, United States
CATEGORIES:Pistol Range
ORGANIZER;CN="NORCO":MAILTO:webmaster@norco.club
END:VEVENT
BEGIN:VEVENT
DTSTART;TZID=America/New_York:20220925T120000
DTEND;TZID=America/New_York:20220925T160000
DTSTAMP:20260423T224858
CREATED:20220615T195745Z
LAST-MODIFIED:20220913T123936Z
UID:8735-1664107200-1664121600@www.norco.club
SUMMARY:Monty Tech Firearm Safety Class
DESCRIPTION:9/19 6-10PM clubhouse and range \n9/23 6-10PM clubhouse and range \n9/25  12N-4PM ; 12-2 range\, 2-4 clubhouse \n
URL:https://www.norco.club/event/monty-tech-firearm-safety-class-3/
LOCATION:Norco Sportsman’s Club\, 91 Houghton Road\, Princeton\, MA\, 01541\, United States
CATEGORIES:Club House,Education,Pistol Range,Private Function
END:VEVENT
BEGIN:VEVENT
DTSTART;TZID=America/New_York:20220925T120000
DTEND;TZID=America/New_York:20220925T140000
DTSTAMP:20260423T224858
CREATED:20220616T120955Z
LAST-MODIFIED:20220913T130753Z
UID:8738-1664107200-1664114400@www.norco.club
SUMMARY:Pistol Range Closed 12N-2 For LTC class
DESCRIPTION:
URL:https://www.norco.club/event/pistol-range-closed-12n-5-today/
LOCATION:Norco Sportsman’s Club\, 91 Houghton Road\, Princeton\, MA\, 01541\, United States
CATEGORIES:Pistol Range
ORGANIZER;CN="NORCO":MAILTO:webmaster@norco.club
END:VEVENT
END:VCALENDAR