BEGIN:VCALENDAR
VERSION:2.0
PRODID:-//NORCO Sportsman&#039;s Club - ECPv5.0.3.1//NONSGML v1.0//EN
CALSCALE:GREGORIAN
METHOD:PUBLISH
X-WR-CALNAME:NORCO Sportsman&#039;s Club
X-ORIGINAL-URL:https://www.norco.club
X-WR-CALDESC:Events for NORCO Sportsman&#039;s Club
BEGIN:VTIMEZONE
TZID:America/New_York
BEGIN:DAYLIGHT
TZOFFSETFROM:-0500
TZOFFSETTO:-0400
TZNAME:EDT
DTSTART:20210314T070000
END:DAYLIGHT
BEGIN:STANDARD
TZOFFSETFROM:-0400
TZOFFSETTO:-0500
TZNAME:EST
DTSTART:20211107T060000
END:STANDARD
END:VTIMEZONE
BEGIN:VEVENT
DTSTART;TZID=America/New_York:20210907T180000
DTEND;TZID=America/New_York:20210907T200000
DTSTAMP:20260423T153944
CREATED:20201222T022350Z
LAST-MODIFIED:20201222T022350Z
UID:7319-1631037600-1631044800@www.norco.club
SUMMARY:Youth Pheasant Shotgun Training 6-8PM\, Trap & Skeet Range
DESCRIPTION:Youth Pheasant shotgun training August 17\,24\,31; September 7\,14\,21 at trap and skeet range \nRange closed for general members with their own trap throwers \nYouth Pheasant Hunter Ed Workshop Part 1 at clubhouse and lawn \nYouth Pheasant  Hunter Ed  Hunt Part 2 club grounds hunting pheasant \nQuestions can be emailed to youth-pheasant@norco.club \nYouth hunters need to be enrolled through MA Wildlife Hunter Ed \nhttps://www.mass.gov/service-details/youth-pheasant-hunt-program \n  \n
URL:https://www.norco.club/event/youth-pheasant-shotgun-training-6-8pm-trap-skeet-range-4/
LOCATION:Norco Sportsman’s Club\, 91 Houghton Road\, Princeton\, MA\, 01541\, United States
CATEGORIES:Education,Pheasant Hunt,Trap & Skeet,Youth Program
ORGANIZER;CN="NORCO":MAILTO:webmaster@norco.club
END:VEVENT
END:VCALENDAR