BEGIN:VCALENDAR
VERSION:2.0
PRODID:-//NORCO Sportsman&#039;s Club - ECPv5.0.3.1//NONSGML v1.0//EN
CALSCALE:GREGORIAN
METHOD:PUBLISH
X-WR-CALNAME:NORCO Sportsman&#039;s Club
X-ORIGINAL-URL:https://www.norco.club
X-WR-CALDESC:Events for NORCO Sportsman&#039;s Club
BEGIN:VTIMEZONE
TZID:America/New_York
BEGIN:DAYLIGHT
TZOFFSETFROM:-0500
TZOFFSETTO:-0400
TZNAME:EDT
DTSTART:20210314T070000
END:DAYLIGHT
BEGIN:STANDARD
TZOFFSETFROM:-0400
TZOFFSETTO:-0500
TZNAME:EST
DTSTART:20211107T060000
END:STANDARD
END:VTIMEZONE
BEGIN:VEVENT
DTSTART;TZID=America/New_York:20210918T080000
DTEND;TZID=America/New_York:20210918T130000
DTSTAMP:20260423T154017
CREATED:20201222T023135Z
LAST-MODIFIED:20201222T023135Z
UID:7330-1631952000-1631970000@www.norco.club
SUMMARY:Youth Pheasant Hunter Ed Workshop Part 1
DESCRIPTION:Youth Pheasant shotgun training August 17\,24\,31; September 7\,14\,21 at trap and skeet range \nRange closed for general members with their own trap throwers \nYouth Pheasant Hunter Ed Workshop Part 1 at clubhouse and lawn \nYouth Pheasant  Hunter Ed  Hunt Part 2 club grounds hunting pheasant \nQuestions can be emailed to youth-pheasant@norco.club \nYouth hunters need to be enrolled through MA Wildlife Hunter Ed \nhttps://www.mass.gov/service-details/youth-pheasant-hunt-program \n  \n
URL:https://www.norco.club/event/youth-pheasant-hunter-ed-workshop-part-1-2/
LOCATION:Norco Sportsman’s Club\, 91 Houghton Road\, Princeton\, MA\, 01541\, United States
CATEGORIES:Education,Pheasant Hunt,Trap & Skeet,Youth Program
ORGANIZER;CN="NORCO":MAILTO:webmaster@norco.club
END:VEVENT
BEGIN:VEVENT
DTSTART;TZID=America/New_York:20210918T100000
DTEND;TZID=America/New_York:20210918T190000
DTSTAMP:20260423T154017
CREATED:20210827T135713Z
LAST-MODIFIED:20210901T163447Z
UID:7910-1631959200-1631991600@www.norco.club
SUMMARY:Burgers & Birds Fundraiser - Trap & Skeet
DESCRIPTION: \n \n
URL:https://www.norco.club/event/burgers-birds-fundraiser-trap-skeet/
LOCATION:Norco Sportsman’s Club\, 91 Houghton Road\, Princeton\, MA\, 01541\, United States
CATEGORIES:Fund Raiser,Trap & Skeet
ORGANIZER;CN="NORCO":MAILTO:webmaster@norco.club
END:VEVENT
END:VCALENDAR