BEGIN:VCALENDAR
VERSION:2.0
PRODID:-//NORCO Sportsman&#039;s Club - ECPv5.0.3.1//NONSGML v1.0//EN
CALSCALE:GREGORIAN
METHOD:PUBLISH
X-WR-CALNAME:NORCO Sportsman&#039;s Club
X-ORIGINAL-URL:https://www.norco.club
X-WR-CALDESC:Events for NORCO Sportsman&#039;s Club
BEGIN:VTIMEZONE
TZID:America/New_York
BEGIN:DAYLIGHT
TZOFFSETFROM:-0500
TZOFFSETTO:-0400
TZNAME:EDT
DTSTART:20240310T070000
END:DAYLIGHT
BEGIN:STANDARD
TZOFFSETFROM:-0400
TZOFFSETTO:-0500
TZNAME:EST
DTSTART:20241103T060000
END:STANDARD
END:VTIMEZONE
BEGIN:VEVENT
DTSTART;TZID=America/New_York:20240413T070000
DTEND;TZID=America/New_York:20240413T120000
DTSTAMP:20260420T005617
CREATED:20240122T204459Z
LAST-MODIFIED:20240122T211017Z
UID:10813-1712991600-1713009600@www.norco.club
SUMMARY:Norco Trout Fishing Derby\, rifle and pistol ranges closed until 12N
DESCRIPTION:Open to members and their friends\, and Norco hosted scouts \nfish shed opens for breakfast 7am \nderby starts at 8am and ends at 12N \nfood available for purchase through the event \nprizes for first fish\, largest fish \nevery kid gets a trip to the prize table \nonce the derby concludes\, anyone can continue to fish until 3 fish are in your creel\, including the morning catch \n  \n
URL:https://www.norco.club/event/norco-trout-fishing-derby/
CATEGORIES:Fishing,Norco Pond,Volunteer,Youth Program
END:VEVENT
END:VCALENDAR