BEGIN:VCALENDAR
VERSION:2.0
PRODID:-//NORCO Sportsman&#039;s Club - ECPv5.0.3.1//NONSGML v1.0//EN
CALSCALE:GREGORIAN
METHOD:PUBLISH
X-WR-CALNAME:NORCO Sportsman&#039;s Club
X-ORIGINAL-URL:https://www.norco.club
X-WR-CALDESC:Events for NORCO Sportsman&#039;s Club
BEGIN:VTIMEZONE
TZID:America/New_York
BEGIN:DAYLIGHT
TZOFFSETFROM:-0500
TZOFFSETTO:-0400
TZNAME:EDT
DTSTART:20240310T070000
END:DAYLIGHT
BEGIN:STANDARD
TZOFFSETFROM:-0400
TZOFFSETTO:-0500
TZNAME:EST
DTSTART:20241103T060000
END:STANDARD
END:VTIMEZONE
BEGIN:VEVENT
DTSTART;TZID=America/New_York:20241215T130000
DTEND;TZID=America/New_York:20241215T170000
DTSTAMP:20260423T090319
CREATED:20240122T225908Z
LAST-MODIFIED:20240122T225908Z
UID:10930-1734267600-1734282000@www.norco.club
SUMMARY:Norco Family Christmas Party and Fun Raffles
DESCRIPTION:kids rsvp with santa for a gift \npotluck \nraffle table \nyankee gift swap \n
URL:https://www.norco.club/event/norco-family-christmas-party-and-fun-raffles/
LOCATION:Norco Sportsman’s Club\, 91 Houghton Road\, Princeton\, MA\, 01541\, United States
CATEGORIES:Club House,Dinner/Banquet,Fund Raiser,Volunteer
ORGANIZER;CN="NORCO":MAILTO:webmaster@norco.club
END:VEVENT
END:VCALENDAR