BEGIN:VCALENDAR
VERSION:2.0
PRODID:-//NORCO Sportsman&#039;s Club - ECPv5.0.3.1//NONSGML v1.0//EN
CALSCALE:GREGORIAN
METHOD:PUBLISH
X-WR-CALNAME:NORCO Sportsman&#039;s Club
X-ORIGINAL-URL:https://www.norco.club
X-WR-CALDESC:Events for NORCO Sportsman&#039;s Club
BEGIN:VTIMEZONE
TZID:America/New_York
BEGIN:DAYLIGHT
TZOFFSETFROM:-0500
TZOFFSETTO:-0400
TZNAME:EDT
DTSTART:20250309T070000
END:DAYLIGHT
BEGIN:STANDARD
TZOFFSETFROM:-0400
TZOFFSETTO:-0500
TZNAME:EST
DTSTART:20251102T060000
END:STANDARD
END:VTIMEZONE
BEGIN:VEVENT
DTSTART;TZID=America/New_York:20250216T090000
DTEND;TZID=America/New_York:20250216T120000
DTSTAMP:20260421T091409
CREATED:20250212T182222Z
LAST-MODIFIED:20250212T182222Z
UID:12138-1739696400-1739707200@www.norco.club
SUMMARY:Norco clubhouse 9am-12N - breast out 100 gamebirds for future meals
DESCRIPTION:club receiving a donation of 100 gamebirds \nsmall group will breast out the birds and freeze for future meals \n  \nemail wayne if interested to help \n
URL:https://www.norco.club/event/norco-clubhouse-9am-12n-breast-out-100-gamebirds-for-future-meals/
LOCATION:Norco Sportsman’s Club\, 91 Houghton Road\, Princeton\, MA\, 01541\, United States
CATEGORIES:Club House,Volunteer
ORGANIZER;CN="NORCO":MAILTO:webmaster@norco.club
END:VEVENT
END:VCALENDAR